BEGIN:VCALENDAR
PRODID:-//github.com/ical-org/ical.net//NONSGML ical.net 4.0//EN
VERSION:2.0
BEGIN:VEVENT
DESCRIPTION:https://www.nacdonline.org/connecticut/connecticut-events/16th
 -annual-economic-forum-connecticut/
DTEND;TZID=America/New_York:20261123T200000
DTSTAMP:20260420T200545Z
DTSTART;TZID=America/New_York:20261123T150000
LOCATION:Fairfield University\, 1073 N Benson Rd\, Fairfield\, CT\, 06824\,
SEQUENCE:0
SUMMARY:16th Annual Economic Forum with CTTMA\, XPX CT and ACG CT
UID:c343b1c9-95b2-41b8-aaa2-4c597ca20070
END:VEVENT
END:VCALENDAR
