BEGIN:VCALENDAR
PRODID:-//github.com/ical-org/ical.net//NONSGML ical.net 4.0//EN
VERSION:2.0
BEGIN:VEVENT
DESCRIPTION:https://www.nacdonline.org/nacd-events/national-events/webinar
 s/rethinking-new-risks-ai-age-webinar-may-2026/
DTEND;TZID=America/New_York:20260505T140000
DTSTAMP:20260420T132755Z
DTSTART;TZID=America/New_York:20260505T130000
LOCATION:
SEQUENCE:0
SUMMARY:Rethinking AI Risk: Privacy\, Legal &amp\; Security
UID:f6f519dd-5335-4b44-aaf1-1cd0c869cce7
END:VEVENT
END:VCALENDAR
