BEGIN:VCALENDAR
PRODID:-//github.com/ical-org/ical.net//NONSGML ical.net 4.0//EN
VERSION:2.0
BEGIN:VEVENT
DESCRIPTION:https://www.nacdonline.org/nacd-events/national-events/webinar
 s/member-engagement/5.12-preparing-for-board-service
DTEND;TZID=America/New_York:20260512T150000
DTSTAMP:20260420T185220Z
DTSTART;TZID=America/New_York:20260512T140000
LOCATION:
SEQUENCE:0
SUMMARY:Preparing for Board Service
UID:f8530672-c24e-4a60-ab8c-ce3639ba8ef9
END:VEVENT
END:VCALENDAR
