BEGIN:VCALENDAR
PRODID:-//github.com/ical-org/ical.net//NONSGML ical.net 4.0//EN
VERSION:2.0
BEGIN:VEVENT
DESCRIPTION:https://www.nacdonline.org/nacd-events/national-events/in-pers
 on-events/leading-minds/leading-minds-of-governance-tech-may-2026/
DTEND;TZID=America/Denver:20260507T170000
DTSTAMP:20260420T135003Z
DTSTART;TZID=America/Denver:20260507T103000
LOCATION:Cherry Hills Country Club\, 4125 S. University Blvd.\, Denver Are
 a\, CO\, 80113\,
SEQUENCE:0
SUMMARY:Leading Minds of Governance &amp\; Tech
UID:8944618b-5da4-45fe-a7e7-f18bd5b794d4
END:VEVENT
END:VCALENDAR
