BEGIN:VCALENDAR
PRODID:-//github.com/ical-org/ical.net//NONSGML ical.net 4.0//EN
VERSION:2.0
BEGIN:VEVENT
DESCRIPTION:https://www.nacdonline.org/nacd-events/national-events/virtual
 -instructor-led/directors-guide-to-ai-may-2026/
DTEND;TZID=America/New_York:20260506T160000
DTSTAMP:20260420T132756Z
DTSTART;TZID=America/New_York:20260506T130000
LOCATION:
RRULE:FREQ=WEEKLY;UNTIL=20260520T200000Z;BYDAY=WE
SEQUENCE:0
SUMMARY:A Director&rsquo\;s Guide to AI: Strategy\, Governance &amp\; Valu
 e Creation (Spring Offering)
UID:8ab84353-c1db-4db7-ba69-50a7d57a09f6
END:VEVENT
END:VCALENDAR
