BEGIN:VCALENDAR
PRODID:-//github.com/ical-org/ical.net//NONSGML ical.net 4.0//EN
VERSION:2.0
BEGIN:VEVENT
DESCRIPTION:https://www.nacdonline.org/nacd-events/national-events/virtual
 -instructor-led/lead-with-impact-april-2026/
DTEND;TZID=America/New_York:20260422T160000
DTSTAMP:20260420T132755Z
DTSTART;TZID=America/New_York:20260422T130000
LOCATION:
RRULE:FREQ=WEEKLY;UNTIL=20260429T200000Z;BYDAY=WE
SEQUENCE:0
SUMMARY:Lead with Impact: Your First 90 Days on a New Board
UID:8bbfda67-e8d0-4366-9485-cfe5968c10fe
END:VEVENT
END:VCALENDAR
