BEGIN:VCALENDAR
PRODID:-//github.com/ical-org/ical.net//NONSGML ical.net 4.0//EN
VERSION:2.0
BEGIN:VEVENT
DESCRIPTION:https://www.nacdonline.org/nacd-events/national-events/webinar
 s/compensation-committee-series-webinar-april-2026/
DTEND;TZID=America/New_York:20260421T150000
DTSTAMP:20260420T132756Z
DTSTART;TZID=America/New_York:20260421T140000
LOCATION:
SEQUENCE:0
SUMMARY:Getting Executive Succession Right: Comp and Leadership Considerat
 ions Compensation Committee Webinar Series
UID:ba031091-c328-4784-84d2-48ff3d73d31c
END:VEVENT
END:VCALENDAR
