BEGIN:VCALENDAR
PRODID:-//github.com/ical-org/ical.net//NONSGML ical.net 4.0//EN
VERSION:2.0
BEGIN:VEVENT
DESCRIPTION:https://www.nacdonline.org/new-england/new-england-events/fire
 side-chat-with-bruce-van-saun/
DTEND;TZID=America/New_York:20260421T190000
DTSTAMP:20260420T132756Z
DTSTART;TZID=America/New_York:20260421T160000
LOCATION:Citizens Johnston Campus\, One Citizens Bank Way\, Johnston\, RI\
 , 02919\,
SEQUENCE:0
SUMMARY:Fireside Chat with Bruce Van Saun
UID:e9a3feee-d07e-41d3-ac5a-328b2a6bf17c
END:VEVENT
END:VCALENDAR
