BEGIN:VCALENDAR
PRODID:-//github.com/ical-org/ical.net//NONSGML ical.net 4.0//EN
VERSION:2.0
BEGIN:VEVENT
DESCRIPTION:https://www.nacdonline.org/nacd-events/national-events/in-pers
 on-events/battlefield-to-boardroom/
DTEND;TZID=America/New_York:20270225T150000
DTSTAMP:20260420T133828Z
DTSTART;TZID=America/New_York:20270224T070000
LOCATION:NACD Board Leadership Center\, 1100 Wilson Blvd\, Arlington\, VA\
 , 22209\,
SEQUENCE:0
SUMMARY:Battlefield to Boardroom&nbsp\;
UID:b5f6c786-edb8-4cd4-a367-0f51a99d517c
END:VEVENT
END:VCALENDAR
