BEGIN:VCALENDAR
PRODID:-//github.com/ical-org/ical.net//NONSGML ical.net 4.0//EN
VERSION:2.0
BEGIN:VEVENT
DESCRIPTION:https://www.nacdonline.org/nacd-events/national-events/in-pers
 on-events/master-class/
DTEND;TZID=America/New_York:20270319T153000
DTSTAMP:20260420T201352Z
DTSTART;TZID=America/New_York:20270318T070000
LOCATION:Conrad by Hilton Washington DC\, 950 New York Ave. NW\, Washingto
 n\, DC\, 20001\,
SEQUENCE:0
SUMMARY:NACD Master Class &reg\; : Technology &amp\; Innovation Oversight
UID:31788c7c-4a67-4bb8-8e5a-b0815d3cad31
END:VEVENT
END:VCALENDAR
