BEGIN:VCALENDAR
PRODID:-//github.com/ical-org/ical.net//NONSGML ical.net 4.0//EN
VERSION:2.0
BEGIN:VEVENT
DESCRIPTION:https://www.nacdonline.org/nacd-events/national-events/in-pers
 on-events/june-2026-master-class/
DTEND;TZID=America/Chicago:20260616T161500
DTSTAMP:20260420T133828Z
DTSTART;TZID=America/Chicago:20260615T080000
LOCATION:Chicago Athletic Association Hotel\, 12 S Michigan Ave\, Chicago\
 , Illinois\, 60603\,
SEQUENCE:0
SUMMARY:NACD Master Class &reg\; : Technology &amp\; Innovation Oversight
UID:08997b11-9af4-4c45-95d4-bd5f913fc520
END:VEVENT
END:VCALENDAR
